
BEGIN:VCALENDAR
VERSION:2.0
PRODID:-//Ábaco Abarán - ECPv6.2.8.2//NONSGML v1.0//EN
CALSCALE:GREGORIAN
METHOD:PUBLISH
X-ORIGINAL-URL:https://abaco.abaran.es
X-WR-CALDESC:Eventos para Ábaco Abarán
REFRESH-INTERVAL;VALUE=DURATION:PT1H
X-Robots-Tag:noindex
X-PUBLISHED-TTL:PT1H
BEGIN:VTIMEZONE
TZID:Europe/Madrid
BEGIN:DAYLIGHT
TZOFFSETFROM:+0100
TZOFFSETTO:+0200
TZNAME:CEST
DTSTART:20210328T010000
END:DAYLIGHT
BEGIN:STANDARD
TZOFFSETFROM:+0200
TZOFFSETTO:+0100
TZNAME:CET
DTSTART:20211031T010000
END:STANDARD
BEGIN:DAYLIGHT
TZOFFSETFROM:+0100
TZOFFSETTO:+0200
TZNAME:CEST
DTSTART:20220327T010000
END:DAYLIGHT
BEGIN:STANDARD
TZOFFSETFROM:+0200
TZOFFSETTO:+0100
TZNAME:CET
DTSTART:20221030T010000
END:STANDARD
BEGIN:DAYLIGHT
TZOFFSETFROM:+0100
TZOFFSETTO:+0200
TZNAME:CEST
DTSTART:20230326T010000
END:DAYLIGHT
BEGIN:STANDARD
TZOFFSETFROM:+0200
TZOFFSETTO:+0100
TZNAME:CET
DTSTART:20231029T010000
END:STANDARD
END:VTIMEZONE
BEGIN:VEVENT
DTSTART;TZID=Europe/Madrid:20230422T190000
DTEND;TZID=Europe/Madrid:20230422T220000
DTSTAMP:20260421T164157
CREATED:20230331T103340Z
LAST-MODIFIED:20230331T110623Z
UID:10000142-1682190000-1682200800@abaco.abaran.es
SUMMARY:II Certamen Nacional de Cantautores y Cantautoras Azáutor
DESCRIPTION:La 2º edición del Certamen del Azáutor tendrá lugar el 22 de abril en el Teatro Cervantes de Abarán a las 19:00 de la tarde. \nSe decidirá al ganador con la Azá de Oro al mejor cantautor y un premio de 800€ patrocinado por Agringenia y un segundo premio de 250€ y Azá de Plata para la mejor letra patrocinada por Avenida Motor. Los trofeos han sido realizados por Diego Maniso.\nLos participantes en el certamen son:\nAndés Iwasaki (Sevilla)\nBeatriz González (Málaga)\nLuismi Partera (Cádiz)\nMicu y María (Madrid) \nTambién contaremos con la actuación de Pedro Guerra como colofón final al Certamen Azáutor. Un referente de la canción de autor española\, con galardones internacionales.
URL:https://abaco.abaran.es/evento/ii-certamen-nacional-de-cantautores-y-cantautoras-azautor/
LOCATION:Teatro Cervantes\, Calle Doctor Molina 79\, Abarán\, Murcia\, 30550\, España
CATEGORIES:Concierto,Teatro
ATTACH;FMTTYPE=image/jpeg:https://abaco.abaran.es/wp-content/uploads/2023/03/WhatsApp-Image-2023-03-28-at-13.53.15-1.jpeg
END:VEVENT
BEGIN:VEVENT
DTSTART;TZID=Europe/Madrid:20210922T213000
DTEND;TZID=Europe/Madrid:20210923T013000
DTSTAMP:20260421T164157
CREATED:20210908T142756Z
LAST-MODIFIED:20210921T183305Z
UID:10000126-1632346200-1632360600@abaco.abaran.es
SUMMARY:Monólogo Murcianos2 - La Década
DESCRIPTION:Monólogo Murcianos 2 – EL Regreso de la Década\nEntrada gratuita con invitación\n \nApertura de puertas una hora antes del inicio del evento. \nAforo y Covid-19 en Plaza de Toros: 1000 personas\nIMPORTANTE \n\nLa solicitud de las invitaciones estará sujeta a la normativa Covid-19 vigente en el momento de realización del evento.\nLos asientos no son numerados\, la asignación será por orden de llegada al recinto.\nLas entradas las puedes conseguir de forma individual o por grupos hasta un máximo de 6 personas.\nSi van a asistir varias personas y desean estar sentadas juntas\, las entradas deberán ser adquiridas por una única persona en una misma reserva. Es importante destacar que los grupos dependerán de la normativa Covid-19 existente en el momento de la celebración del evento. Así como\, tener preparados los nombres y DNI tanto del comprador como de sus acompañantes antes del acceso a la Plaza de Toros.\nNo será necesario adquirir entradas diferentes para PMR (personas de movilidad reducida)\, una vez llegues al recinto se le asignará un lugar para que puedan disfrutar del concierto con total comodidad.\nLas entradas serán nominativas\, en el proceso de compra se solicitarán tanto los datos de la persona responsable de adquirir las entradas\, como del resto de asistentes\, según la normativa Covid-19 vigente. Solo habrá que rellenar un pequeño formulario durante el proceso de compra.\nLos menores de 18 años podrán asistir acompañados por padre\, madre o tutor legal y presentando la hoja de responsabilidad: puedes descargarla AQUÍ.\nEn caso de cambios en la normativa o en la celebración del evento difundiremos dicho cambio a través de las RRSS del Ayuntamiento de Abarán.\nEs obligatorio el uso de la mascarilla en todo momento.
URL:https://abaco.abaran.es/evento/monologo-murcianicos-2-la-decada/
LOCATION:Plaza de Toros\, Plaza de la Zarzuela\, 14\, Abarán\, Murcia\, 30550\, España
CATEGORIES:Concierto,Teatro
ATTACH;FMTTYPE=image/png:https://abaco.abaran.es/wp-content/uploads/2021/09/MurcianosylaDecada-1.png
END:VEVENT
BEGIN:VEVENT
DTSTART;TZID=Europe/Madrid:20210507T213000
DTEND;TZID=Europe/Madrid:20210507T230000
DTSTAMP:20260421T164157
CREATED:20210427T151732Z
LAST-MODIFIED:20210507T103532Z
UID:10000121-1620423000-1620428400@abaco.abaran.es
SUMMARY:La Molinera de Arcos
DESCRIPTION:La Molinera de Arcos\nInspirada en Pedro A. de Alarcón (El sombrero de tres picos\, 1874) y en la tradición\, La Molinera de Arcos es un texto muy apegado al folclore español\, rico en expresiones populares\, pero exento\, al mismo tiempo\, de propósitos «cultistas»\, reconstrucciones históricas y pedanterías librescas: una nueva cuenta del rosario de versiones del viejo tema de la «pícara molinera». \nUna Comedia de Alejandro Casona por Teatro del Matadero. \n– He pretendido ensalzar la figura femenina subrayando la alianza final entre las dos mujeres: «No basta que una esté sola y ellos quieran»\, le dice la Corregidora a la Molinera antes de cederle la vara de la justicia para que sea ella —el pueblo— quien juzgue al malvado. Por último\, el muy sincero y leal agradecimiento del grupo a cuantas personas han colaborado desinteresadamente para que esta Molinera viera la luz. –\nPaco F. Navarrete – Director \nSubvencionado por:
URL:https://abaco.abaran.es/evento/la-molinera-de-arcos/
LOCATION:Teatro Cervantes\, Calle Doctor Molina 79\, Abarán\, Murcia\, 30550\, España
CATEGORIES:Teatro
ATTACH;FMTTYPE=image/jpeg:https://abaco.abaran.es/wp-content/uploads/2021/04/CARTEL-LA-MOLINERA-DE-ARCOS.jpg
END:VEVENT
BEGIN:VEVENT
DTSTART;TZID=Europe/Madrid:20210430T203000
DTEND;TZID=Europe/Madrid:20210430T220000
DTSTAMP:20260421T164157
CREATED:20210420T152249Z
LAST-MODIFIED:20210427T153924Z
UID:10000120-1619814600-1619820000@abaco.abaran.es
SUMMARY:Con la muerte en los tacones
DESCRIPTION:Con la Muerte en los Tacones \n\nComedia. Público Juvenil y Adulto / \nTras recibir la noticia de la muerte de su madre\, tres hermanas se verán obligadas a hacer un viaje junta para cumplir la última voluntad de la difunta. \nMari Fe\, una ejecutiva agresiva\, triunfadora y ex alcohólica; Esperanza\, una hippie paranoica\, adicta a los ansiolíticos y con problemas de contención urinaria; y\, por último\, Caridad\, una ama de casa neurótica perseguida por las desgracias. \nTres mujeres muy diferentes unidas por un mismo destino\, viajar juntas desde Parla\, Madrid\, hasta el Mar Menor murciano para esparcir las cenizas de su madre. \nEn cada curva del camino encontrarán una adversidad\, y en alguna recta también. Se perderá una de ellas\, les perseguirá la policía\, les robarán las cenizas a punta de pistola\, estrellarán el coche… \nSu objetivo ya no será llegar a su destino\, sino sobrevivir al viaje. \nUn Road Movie\, pero sin movie…\nTres Hermanas unidas por un mismo destino.\nUn viaje interior por las carreteras de España.\n  \nEvento subvencionado por el Instituto de la Cultura y las Artes de la Región de Murcia
URL:https://abaco.abaran.es/evento/con-la-muerte-en-los-tacones/
LOCATION:Teatro Cervantes\, Calle Doctor Molina 79\, Abarán\, Murcia\, 30550\, España
CATEGORIES:Teatro
ATTACH;FMTTYPE=image/jpeg:https://abaco.abaran.es/wp-content/uploads/2021/04/NUEVO_Cartel_Con_la_muerte_JPG-scaled-1.jpg
END:VEVENT
END:VCALENDAR