
BEGIN:VCALENDAR
VERSION:2.0
PRODID:-//Ábaco Abarán - ECPv6.2.8.2//NONSGML v1.0//EN
CALSCALE:GREGORIAN
METHOD:PUBLISH
X-WR-CALNAME:Ábaco Abarán
X-ORIGINAL-URL:https://abaco.abaran.es
X-WR-CALDESC:Eventos para Ábaco Abarán
REFRESH-INTERVAL;VALUE=DURATION:PT1H
X-Robots-Tag:noindex
X-PUBLISHED-TTL:PT1H
BEGIN:VTIMEZONE
TZID:Europe/Madrid
BEGIN:DAYLIGHT
TZOFFSETFROM:+0100
TZOFFSETTO:+0200
TZNAME:CEST
DTSTART:20200329T010000
END:DAYLIGHT
BEGIN:STANDARD
TZOFFSETFROM:+0200
TZOFFSETTO:+0100
TZNAME:CET
DTSTART:20201025T010000
END:STANDARD
END:VTIMEZONE
BEGIN:VEVENT
DTSTART;TZID=Europe/Madrid:20201121T193000
DTEND;TZID=Europe/Madrid:20201121T221100
DTSTAMP:20260426T060509
CREATED:20201116T164135Z
LAST-MODIFIED:20201223T085335Z
UID:10000103-1605987000-1605996660@abaco.abaran.es
SUMMARY:Boyhood (Momentos de una vida)
DESCRIPTION:Sinopsis\nLa película sigue a Mason desde los seis años durante algo más de una década poblada de cambios\, mudanzas y controversias\, relaciones que se tambalean\, bodas\, diferentes colegios\, primeros amores\, primeras desilusiones\, momentos maravillosos\, momentos de miedo y una constante mezcla de desgarro y de sorpresa. Los resultados son totalmente impredecibles\, ya que cada momento lleva a otro\, uniéndose en la profunda experiencia personal que nos forma mientras crecemos y nos acoplamos a la siempre cambiante naturaleza de nuestra vida. La historia empieza cuando Mason\, un soñador de seis años\, se enfrenta a la primera gran convulsión de su vida: su entregada y luchadora madre Olivia ha decidido que se muda con Mason y su hermana Samantha a Houston\, justo cuando el padre de sus hijos\, Mason Sr acaba de regresar a Alaska. Así empieza una vida de cambios. Entre una marea de padres y padrastros\, novias\, profesores\, jefes\, peligros\, deseos y pasión creativa\, Mason consigue encontrar su propio camino. \nNo recomendado menores de 12 años \nSi no puede acudir al evento\, por favor llame o envíe un WhatsApp al 608497654. Para que otro espectador pueda disfrutar del evento. Muchas gracias \nCon la financiación del
URL:https://abaco.abaran.es/evento/boyhood-momentos-de-una-vida/
LOCATION:Teatro Cervantes\, Calle Doctor Molina 79\, Abarán\, Murcia\, 30550\, España
CATEGORIES:Cine
ATTACH;FMTTYPE=image/jpeg:https://abaco.abaran.es/wp-content/uploads/2020/11/002.jpg
END:VEVENT
BEGIN:VEVENT
DTSTART;TZID=Europe/Madrid:20201120T200000
DTEND;TZID=Europe/Madrid:20201120T221000
DTSTAMP:20260426T060509
CREATED:20201116T162954Z
LAST-MODIFIED:20201223T085342Z
UID:10000102-1605902400-1605910200@abaco.abaran.es
SUMMARY:La princesa Mononoke
DESCRIPTION:Sinopsis\nTras sufrir el ataque de un monstruoso jabalí enloquecido\, el joven Ashitaka emprende el camino en busca del dios Ciervo\, pues sólo él puede curarlo\, puesto que la herida\, que es en el brazo\, se extiende poco a poco hasta incluso llegar a matar a quien la sufre. Pero la maldición no es sólo eso\, además\, cuando Ashitaka se deja llevar por la furia\, la herida le da una fuerza descomunal… Pero se extiende amayor velocidad. Mientras tanto\, los humanos están acabando con los bosques\, por lo que los dioses convertidos en temibles bestias hacen todo lo posible por protegerlos encabezados por Mononoke\, una princesa guerrera. Ashikata deberá decidir si ayudar a los hombres o las deidades intentando detener la maldición de su herida. \nNo recomendada para menores de 7 años \n  \nSi no puede acudir al evento\, por favor llame o envíe un WhatsApp al 608497654. Para que otro espectador pueda disfrutar del evento. Muchas gracias \nCon la financiación del
URL:https://abaco.abaran.es/evento/la-princesa-mononoke/
LOCATION:Teatro Cervantes\, Calle Doctor Molina 79\, Abarán\, Murcia\, 30550\, España
CATEGORIES:Cine
ATTACH;FMTTYPE=image/jpeg:https://abaco.abaran.es/wp-content/uploads/2020/11/004.jpg
END:VEVENT
BEGIN:VEVENT
DTSTART;TZID=Europe/Madrid:20201114T200000
DTEND;TZID=Europe/Madrid:20201114T223000
DTSTAMP:20260426T060509
CREATED:20201111T163208Z
LAST-MODIFIED:20201111T234913Z
UID:10000101-1605384000-1605393000@abaco.abaran.es
SUMMARY:Figuras ocultas
DESCRIPTION:Sinopsis \nMientras los Estados Unidos competían con Rusia para llevar un hombre al espacio\, la NASA descubrió el talento sin explotar de un grupo de matemáticas afroamericanas que fueron el cerebro de una de las operaciones más importantes de la historia del país norteamericano. Basada en la increíble vida de estas tres mujeres\, conocidas como «calculadoras humanas»\, seguimos lo rápido que levantaron filas en la NASA junto a muchas de las mentes más brillantes de la historia\, encargadas específicamente en el cálculo de la trascendental puesta en órbita del astronauta John Glenn y de garantizar su regreso. Dorothy Vaughn\, Mary Jackson y Katherine Johnson atravesaron todo las barreras de género y raza a nivel profesional. Su brillantez y el deseo de soñar a lo grande las convirtieron en verdaderas heroínas norteamericanas. \nSi no puede acudir al evento\, por favor llame o envíe un WhatsApp al 608497654. Para que otro espectador pueda disfrutar del evento. Muchas gracias \nCon la financiación del
URL:https://abaco.abaran.es/evento/figuras-ocultas/
LOCATION:Teatro Cervantes\, Calle Doctor Molina 79\, Abarán\, Murcia\, 30550\, España
CATEGORIES:Cine
ATTACH;FMTTYPE=image/jpeg:https://abaco.abaran.es/wp-content/uploads/2020/11/figuras-ocultas.jpg
END:VEVENT
BEGIN:VEVENT
DTSTART;TZID=Europe/Madrid:20201113T200000
DTEND;TZID=Europe/Madrid:20201113T220000
DTSTAMP:20260426T060509
CREATED:20201111T115708Z
LAST-MODIFIED:20201111T163301Z
UID:10000100-1605297600-1605304800@abaco.abaran.es
SUMMARY:La Biblioteca de los libros rechazados
DESCRIPTION:Sinopsis \nUna joven editora descubre una novela que considera como obra magistral en una biblioteca cuya particularidad es que reúnen todos aquellos manuscritos que han sido rechazados en editoriales. El libro viene firmado por Henri Pick\, un pizzero bretón fallecido dos años antes. La editora decide hablar con la viuda quién le asegura que Pick jamás había leído un sólo libro y mucho menos escribir nada más allá de la lista de la compra. Con tal misterio en ciernes\, la novela se convierte en un auténtico best-seller pero sin estar convencido del todo con el caso\, un célebre crítico decide intentar desentrañar el secreto\, ayudado por la hija del enigmático Pick. Basada en la novela del mismo nombre escrita por David Foenkinos. \n*Si no puede acudir al evento\, por favor llama o envía un WhatsApp a este número: 608497654. Para que otro espectador pueda disfrutar del evento. Muchas gracias \nCon la financiación del
URL:https://abaco.abaran.es/evento/la-biblioteca-de-los-libros-rechazados/
LOCATION:Teatro Cervantes\, Calle Doctor Molina 79\, Abarán\, Murcia\, 30550\, España
CATEGORIES:Cine
ATTACH;FMTTYPE=image/jpeg:https://abaco.abaran.es/wp-content/uploads/2020/11/loa-biblioteca-de-los-libros-rechazados.jpg
END:VEVENT
END:VCALENDAR