
BEGIN:VCALENDAR
VERSION:2.0
PRODID:-//Ábaco Abarán - ECPv6.2.8.2//NONSGML v1.0//EN
CALSCALE:GREGORIAN
METHOD:PUBLISH
X-ORIGINAL-URL:https://abaco.abaran.es
X-WR-CALDESC:Eventos para Ábaco Abarán
REFRESH-INTERVAL;VALUE=DURATION:PT1H
X-Robots-Tag:noindex
X-PUBLISHED-TTL:PT1H
BEGIN:VTIMEZONE
TZID:Europe/Madrid
BEGIN:DAYLIGHT
TZOFFSETFROM:+0100
TZOFFSETTO:+0200
TZNAME:CEST
DTSTART:20230326T010000
END:DAYLIGHT
BEGIN:STANDARD
TZOFFSETFROM:+0200
TZOFFSETTO:+0100
TZNAME:CET
DTSTART:20231029T010000
END:STANDARD
END:VTIMEZONE
BEGIN:VEVENT
DTSTART;TZID=Europe/Madrid:20230422T190000
DTEND;TZID=Europe/Madrid:20230422T220000
DTSTAMP:20260426T062721
CREATED:20230331T103340Z
LAST-MODIFIED:20230331T110623Z
UID:10000142-1682190000-1682200800@abaco.abaran.es
SUMMARY:II Certamen Nacional de Cantautores y Cantautoras Azáutor
DESCRIPTION:La 2º edición del Certamen del Azáutor tendrá lugar el 22 de abril en el Teatro Cervantes de Abarán a las 19:00 de la tarde. \nSe decidirá al ganador con la Azá de Oro al mejor cantautor y un premio de 800€ patrocinado por Agringenia y un segundo premio de 250€ y Azá de Plata para la mejor letra patrocinada por Avenida Motor. Los trofeos han sido realizados por Diego Maniso.\nLos participantes en el certamen son:\nAndés Iwasaki (Sevilla)\nBeatriz González (Málaga)\nLuismi Partera (Cádiz)\nMicu y María (Madrid) \nTambién contaremos con la actuación de Pedro Guerra como colofón final al Certamen Azáutor. Un referente de la canción de autor española\, con galardones internacionales.
URL:https://abaco.abaran.es/evento/ii-certamen-nacional-de-cantautores-y-cantautoras-azautor/
LOCATION:Teatro Cervantes\, Calle Doctor Molina 79\, Abarán\, Murcia\, 30550\, España
CATEGORIES:Concierto,Teatro
ATTACH;FMTTYPE=image/jpeg:https://abaco.abaran.es/wp-content/uploads/2023/03/WhatsApp-Image-2023-03-28-at-13.53.15-1.jpeg
END:VEVENT
END:VCALENDAR