
BEGIN:VCALENDAR
VERSION:2.0
PRODID:-//Ábaco Abarán - ECPv6.2.8.2//NONSGML v1.0//EN
CALSCALE:GREGORIAN
METHOD:PUBLISH
X-ORIGINAL-URL:https://abaco.abaran.es
X-WR-CALDESC:Eventos para Ábaco Abarán
REFRESH-INTERVAL;VALUE=DURATION:PT1H
X-Robots-Tag:noindex
X-PUBLISHED-TTL:PT1H
BEGIN:VTIMEZONE
TZID:Europe/Madrid
BEGIN:DAYLIGHT
TZOFFSETFROM:+0100
TZOFFSETTO:+0200
TZNAME:CEST
DTSTART:20200329T010000
END:DAYLIGHT
BEGIN:STANDARD
TZOFFSETFROM:+0200
TZOFFSETTO:+0100
TZNAME:CET
DTSTART:20201025T010000
END:STANDARD
BEGIN:DAYLIGHT
TZOFFSETFROM:+0100
TZOFFSETTO:+0200
TZNAME:CEST
DTSTART:20210328T010000
END:DAYLIGHT
BEGIN:STANDARD
TZOFFSETFROM:+0200
TZOFFSETTO:+0100
TZNAME:CET
DTSTART:20211031T010000
END:STANDARD
BEGIN:DAYLIGHT
TZOFFSETFROM:+0100
TZOFFSETTO:+0200
TZNAME:CEST
DTSTART:20220327T010000
END:DAYLIGHT
BEGIN:STANDARD
TZOFFSETFROM:+0200
TZOFFSETTO:+0100
TZNAME:CET
DTSTART:20221030T010000
END:STANDARD
BEGIN:DAYLIGHT
TZOFFSETFROM:+0100
TZOFFSETTO:+0200
TZNAME:CEST
DTSTART:20230326T010000
END:DAYLIGHT
BEGIN:STANDARD
TZOFFSETFROM:+0200
TZOFFSETTO:+0100
TZNAME:CET
DTSTART:20231029T010000
END:STANDARD
END:VTIMEZONE
BEGIN:VEVENT
DTSTART;TZID=Europe/Madrid:20230422T190000
DTEND;TZID=Europe/Madrid:20230422T220000
DTSTAMP:20260426T054952
CREATED:20230331T103340Z
LAST-MODIFIED:20230331T110623Z
UID:10000142-1682190000-1682200800@abaco.abaran.es
SUMMARY:II Certamen Nacional de Cantautores y Cantautoras Azáutor
DESCRIPTION:La 2º edición del Certamen del Azáutor tendrá lugar el 22 de abril en el Teatro Cervantes de Abarán a las 19:00 de la tarde. \nSe decidirá al ganador con la Azá de Oro al mejor cantautor y un premio de 800€ patrocinado por Agringenia y un segundo premio de 250€ y Azá de Plata para la mejor letra patrocinada por Avenida Motor. Los trofeos han sido realizados por Diego Maniso.\nLos participantes en el certamen son:\nAndés Iwasaki (Sevilla)\nBeatriz González (Málaga)\nLuismi Partera (Cádiz)\nMicu y María (Madrid) \nTambién contaremos con la actuación de Pedro Guerra como colofón final al Certamen Azáutor. Un referente de la canción de autor española\, con galardones internacionales.
URL:https://abaco.abaran.es/evento/ii-certamen-nacional-de-cantautores-y-cantautoras-azautor/
LOCATION:Teatro Cervantes\, Calle Doctor Molina 79\, Abarán\, Murcia\, 30550\, España
CATEGORIES:Concierto,Teatro
ATTACH;FMTTYPE=image/jpeg:https://abaco.abaran.es/wp-content/uploads/2023/03/WhatsApp-Image-2023-03-28-at-13.53.15-1.jpeg
END:VEVENT
BEGIN:VEVENT
DTSTART;TZID=Europe/Madrid:20210507T213000
DTEND;TZID=Europe/Madrid:20210507T230000
DTSTAMP:20260426T054952
CREATED:20210427T151732Z
LAST-MODIFIED:20210507T103532Z
UID:10000121-1620423000-1620428400@abaco.abaran.es
SUMMARY:La Molinera de Arcos
DESCRIPTION:La Molinera de Arcos\nInspirada en Pedro A. de Alarcón (El sombrero de tres picos\, 1874) y en la tradición\, La Molinera de Arcos es un texto muy apegado al folclore español\, rico en expresiones populares\, pero exento\, al mismo tiempo\, de propósitos «cultistas»\, reconstrucciones históricas y pedanterías librescas: una nueva cuenta del rosario de versiones del viejo tema de la «pícara molinera». \nUna Comedia de Alejandro Casona por Teatro del Matadero. \n– He pretendido ensalzar la figura femenina subrayando la alianza final entre las dos mujeres: «No basta que una esté sola y ellos quieran»\, le dice la Corregidora a la Molinera antes de cederle la vara de la justicia para que sea ella —el pueblo— quien juzgue al malvado. Por último\, el muy sincero y leal agradecimiento del grupo a cuantas personas han colaborado desinteresadamente para que esta Molinera viera la luz. –\nPaco F. Navarrete – Director \nSubvencionado por:
URL:https://abaco.abaran.es/evento/la-molinera-de-arcos/
LOCATION:Teatro Cervantes\, Calle Doctor Molina 79\, Abarán\, Murcia\, 30550\, España
CATEGORIES:Teatro
ATTACH;FMTTYPE=image/jpeg:https://abaco.abaran.es/wp-content/uploads/2021/04/CARTEL-LA-MOLINERA-DE-ARCOS.jpg
END:VEVENT
BEGIN:VEVENT
DTSTART;TZID=Europe/Madrid:20210430T203000
DTEND;TZID=Europe/Madrid:20210430T220000
DTSTAMP:20260426T054952
CREATED:20210420T152249Z
LAST-MODIFIED:20210427T153924Z
UID:10000120-1619814600-1619820000@abaco.abaran.es
SUMMARY:Con la muerte en los tacones
DESCRIPTION:Con la Muerte en los Tacones \n\nComedia. Público Juvenil y Adulto / \nTras recibir la noticia de la muerte de su madre\, tres hermanas se verán obligadas a hacer un viaje junta para cumplir la última voluntad de la difunta. \nMari Fe\, una ejecutiva agresiva\, triunfadora y ex alcohólica; Esperanza\, una hippie paranoica\, adicta a los ansiolíticos y con problemas de contención urinaria; y\, por último\, Caridad\, una ama de casa neurótica perseguida por las desgracias. \nTres mujeres muy diferentes unidas por un mismo destino\, viajar juntas desde Parla\, Madrid\, hasta el Mar Menor murciano para esparcir las cenizas de su madre. \nEn cada curva del camino encontrarán una adversidad\, y en alguna recta también. Se perderá una de ellas\, les perseguirá la policía\, les robarán las cenizas a punta de pistola\, estrellarán el coche… \nSu objetivo ya no será llegar a su destino\, sino sobrevivir al viaje. \nUn Road Movie\, pero sin movie…\nTres Hermanas unidas por un mismo destino.\nUn viaje interior por las carreteras de España.\n  \nEvento subvencionado por el Instituto de la Cultura y las Artes de la Región de Murcia
URL:https://abaco.abaran.es/evento/con-la-muerte-en-los-tacones/
LOCATION:Teatro Cervantes\, Calle Doctor Molina 79\, Abarán\, Murcia\, 30550\, España
CATEGORIES:Teatro
ATTACH;FMTTYPE=image/jpeg:https://abaco.abaran.es/wp-content/uploads/2021/04/NUEVO_Cartel_Con_la_muerte_JPG-scaled-1.jpg
END:VEVENT
BEGIN:VEVENT
DTSTART;TZID=Europe/Madrid:20210425T123000
DTEND;TZID=Europe/Madrid:20210425T140000
DTSTAMP:20260426T054952
CREATED:20210415T100211Z
LAST-MODIFIED:20210420T153939Z
UID:10000119-1619353800-1619359200@abaco.abaran.es
SUMMARY:Cómo ser un buen Quijote
DESCRIPTION:Cómo ser un buen Quijote\nTres cómicos ambulantes\, José\, Blas y Candelaria\, llegan a una nueva plaza. Se les ocurre la loca idea de representar las aventuras del Quijote. Como no es una tarea fácil\, Candelaria decide poner a prueba a José y a Blas para ver si tienen buenas cualidades para ser un buen Quijote y un buen Sancho\, reservándose para ella el papel de Dulcinea. Así\, intentarán reproducir algunas de las escenas más famosas del libro. Luchan contra gigantes y ejércitos\, escriben cartas de amor y hacen penitencia\, a la vez que nos muestran como Don Quijote es loco y obstinado pero valiente\, y Sancho es bruto y ambicioso pero fiel. Los tres cómicos descubren que la obra de Cervantes está llena de humor\, grandes valores y sobre todo imaginación. \nEntrada 3 € – #SemanadelLibro2021 #TeatroInfantil \n  \nEvento subvencionado por  el Instituto de la Cultura y las Artes de la Región de Murcia.
URL:https://abaco.abaran.es/evento/como-ser-un-buen-quijote/
LOCATION:Teatro Cervantes\, Calle Doctor Molina 79\, Abarán\, Murcia\, 30550\, España
CATEGORIES:Teatro Infantil
ATTACH;FMTTYPE=image/png:https://abaco.abaran.es/wp-content/uploads/2021/04/0Cartel-Como-ser-un-buen-quijote-ABACO.png
END:VEVENT
BEGIN:VEVENT
DTSTART;TZID=Europe/Madrid:20210104T170000
DTEND;TZID=Europe/Madrid:20210104T213000
DTSTAMP:20260426T054952
CREATED:20201222T164401Z
LAST-MODIFIED:20210103T123843Z
UID:10000112-1609779600-1609795800@abaco.abaran.es
SUMMARY:Un lugar tranquilo
DESCRIPTION:Sinopsis \nSi no te oyen\, no te pueden atrapar… John Krasinski (Los Hollar\, The Office) dirige esta espeluznante película basada en un guion escrito por él mismo junto a Scott Beck y Bryan Woods. El reparto principal de la película está encabezado por el propio Krasinski y (su mujer) Emily Blunt (‘Sicario’\, ‘Al filo del mañana’). El thriller de terror\, «UN LUGAR TRANQUILO»\, narra la historia de una familia en un tiempo distópico\, que trata de sobrevivir en silencio amenazados por misteriosas criaturas que intentan eliminarles guiadas por el sonido. Mucha tensión y suspense marcarán cada instante del día a día de esta familia que luchará hasta el final por su supervivencia. Michael Bay (13 horas\, Transformers) junto a Krasinski\, Allyson Seeger\, Scott Beck y Bryan Woods son los productores ejecutivos de la película. \nNo recomendada para menores de 16 años \nDuración: 95 minutos \nGénero: Thriller\, Terror\, Suspense \nSi no puede acudir al evento\, por favor llame o envíe un WhatsApp al 608497654. Para que otro espectador pueda disfrutar del evento. Muchas gracias
URL:https://abaco.abaran.es/evento/un-lugar-tranquilo/
LOCATION:Teatro Cervantes\, Calle Doctor Molina 79\, Abarán\, Murcia\, 30550\, España
CATEGORIES:Cine
ATTACH;FMTTYPE=image/jpeg:https://abaco.abaran.es/wp-content/uploads/2020/12/003.jpg
END:VEVENT
BEGIN:VEVENT
DTSTART;TZID=Europe/Madrid:20201226T170000
DTEND;TZID=Europe/Madrid:20201226T213000
DTSTAMP:20260426T054952
CREATED:20201222T164347Z
LAST-MODIFIED:20201223T085252Z
UID:10000111-1609002000-1609018200@abaco.abaran.es
SUMMARY:Gremlins
DESCRIPTION:Sinopsis \nRand es un viajante que un día regala a su joven hijo Billy un pequeño ser llamado Mogwai\, una tierna y extraña criatura. El inocente regalo\, sin embargo\, será el origen de toda una ola de gamberradas y barbaridades en un pequeño pueblo de Estados Unidos. Todo empieza cuando las 3 reglas básicas que siempre se han de seguir para conservar el mogwai: no darle de comer después de medianoche\, no mojarlo y evitar que le dé la luz del sol\, son infringidas una tras otra. \nNo recomendada para menores de 12 años \nDuración: 106 minutos \nGénero: Comedia\, fantástico\, terror \nSi no puede acudir al evento\, por favor llame o envíe un WhatsApp al 608497654. Para que otro espectador pueda disfrutar del evento. Muchas gracias \n 
URL:https://abaco.abaran.es/evento/gremlins/
LOCATION:Teatro Cervantes\, Calle Doctor Molina 79\, Abarán\, Murcia\, 30550\, España
CATEGORIES:Cine
ATTACH;FMTTYPE=image/png:https://abaco.abaran.es/wp-content/uploads/2020/12/001-1-2.png
END:VEVENT
BEGIN:VEVENT
DTSTART;TZID=Europe/Madrid:20201225T170000
DTEND;TZID=Europe/Madrid:20201225T213000
DTSTAMP:20260426T054952
CREATED:20201222T173907Z
LAST-MODIFIED:20201224T120844Z
UID:10000114-1608915600-1608931800@abaco.abaran.es
SUMMARY:La Primera Navidad
DESCRIPTION:Sinopsis \nEl planteamiento de ‘La primera navidad’\, conocida en Italia por su título original ‘Il primo Natalei\, nos cuenta una historia que está caracterizada por su tono cómico y su peculiaridad de introducir viajes temporales mientras nos sitúan en la antigua Roma. El ladrón Salvo y el párroco Valentino viajan 2 mil años atrás en el tiempo a la Palestina que vio nacer a Jesús. La extraña pareja se encuentra en un entorno desconocido\, durante el reino de Heroes y la dominación romana en territorio hebreo\, donde protagonizarán equívocos\, malentendidos y muchos líos. Una comedia que se estrenó en Italia es pasado año y que por lo que vemos en el planteamiento nos trae muchos escenarios en donde no resulta para nada difícil encontrar la comedia y las situaciones de lo más graciosas. En una producción de Medusa Films\, la película contaba con un presupuesto de 6 millones de euros\, lo que no está nada mal. La dirección la componen en este caso dos directores italianos\, Salvatore Ficarra\, Valentino Picone\, quienes también son los encargados junto a Nicola Guaglianone\, de escribir el guion de ‘La primera Navidad’. En el reparto principal\, podemos encontrarnos también con Salvatore Ficarra\, Valentino Picone\, quienes\, como vemos\, realizan varias de las funciones más importantes dentro de esta producción\, además de otros nombres como por ejemplo Massimo Popolizio. \nNo recomendado menores de 7 años \nDuración: 100 minutos \nGénero: Comedia \nSi no puede acudir al evento\, por favor llame o envíe un WhatsApp al 608497654. Para que otro espectador pueda disfrutar del evento. Muchas gracias
URL:https://abaco.abaran.es/evento/la-primera-navidad/
LOCATION:Teatro Cervantes\, Calle Doctor Molina 79\, Abarán\, Murcia\, 30550\, España
CATEGORIES:Cine
ATTACH;FMTTYPE=image/png:https://abaco.abaran.es/wp-content/uploads/2020/12/Cartel-PRIMERA-NAVIDAD-30112020.png
END:VEVENT
BEGIN:VEVENT
DTSTART;TZID=Europe/Madrid:20201206T200000
DTEND;TZID=Europe/Madrid:20201206T213000
DTSTAMP:20260426T054952
CREATED:20201127T190035Z
LAST-MODIFIED:20201223T085311Z
UID:10000110-1607284800-1607290200@abaco.abaran.es
SUMMARY:Tomboy
DESCRIPTION:Sinopsis \nLaure\, una niña de 10 años\, se muda con sus padres y su hermana pequeña a un nuevo vecindario. Allí\, hace nuevos amigos y el verano transcurre entre juegos y risas. Sin embargo Laure tiene un secreto\, se hace pasar por un chico\, Michael. Lisa\, una chica del grupo se enamora de ella creyendo que es Michael\, lo que dará pie a situaciones comprometidas. ¿Durante cuánto tiempo podrá Michael hacer creer a los demás que es en realidad Laure? ¿Cuáles serán las consecuencias cuando se descubra su engaño? \nTodos los públicos  \nSi no puede acudir al evento\, por favor llame o envíe un WhatsApp al 608497654. Para que otro espectador pueda disfrutar del evento. Muchas gracias \nCon la financiación del \n \n 
URL:https://abaco.abaran.es/evento/tomboy/
LOCATION:Teatro Cervantes\, Calle Doctor Molina 79\, Abarán\, Murcia\, 30550\, España
CATEGORIES:Cine
ATTACH;FMTTYPE=image/jpeg:https://abaco.abaran.es/wp-content/uploads/2020/11/002-1-1.jpg
END:VEVENT
BEGIN:VEVENT
DTSTART;TZID=Europe/Madrid:20201205T200000
DTEND;TZID=Europe/Madrid:20201205T220000
DTSTAMP:20260426T054952
CREATED:20201127T185330Z
LAST-MODIFIED:20201223T085317Z
UID:10000109-1607198400-1607205600@abaco.abaran.es
SUMMARY:La teoría del todo
DESCRIPTION:Sinopsis \nLa historia gira en torno al famoso físico Stephen Hawking (Eddie Redmayne) y su vida con su esposa\, Jane Wilde (Felicity Jones)\, la estudiante de Arte de la que se enamoró mientras estudiaban en Cambridge en los años sesenta. Un joven y prometedor científico recibe un diagnóstico estremecedor a los 21 años: sufre esclerosis lateral amiotrófica\, más conocida como ELA. Con Jane luchando incansablemente a su lado\, Hawking desafía todas las probabilidades\, abriendo nuevos caminos en la medicina y la ciencia. ‘La teoría del todo’ es una daptación de las memorias de Jane Hawking\, ‘Travelling to Infinity: My Life with Stephen’. \nTodos los públicos  \n1 Premio Oscar \n2 Globos de Oro \n3 Premios Bafta \nNº #152 en la lista ‘Las mejores películas de la historia’ \nSi no puede acudir al evento\, por favor llame o envíe un WhatsApp al 608497654. Para que otro espectador pueda disfrutar del evento. Muchas gracias \nCon la financiación del \n \n 
URL:https://abaco.abaran.es/evento/la-teoria-del-todo/
LOCATION:Teatro Cervantes\, Calle Doctor Molina 79\, Abarán\, Murcia\, 30550\, España
CATEGORIES:Cine
ATTACH;FMTTYPE=image/jpeg:https://abaco.abaran.es/wp-content/uploads/2020/11/002-1.jpg
END:VEVENT
BEGIN:VEVENT
DTSTART;TZID=Europe/Madrid:20201204T200000
DTEND;TZID=Europe/Madrid:20201204T220000
DTSTAMP:20260426T054952
CREATED:20201127T184708Z
LAST-MODIFIED:20201223T085324Z
UID:10000108-1607112000-1607119200@abaco.abaran.es
SUMMARY:100 metros
DESCRIPTION:Sinopsis\nBasada en hechos reales. Ramón es un hombre joven de 30 años que acaba de ser padre de familia y vive para su trabajo y sus seres queridos. Sin embargo\, su cuerpo empieza a fallar. Tras una revisión con el médico\, le dan una de las peores noticias: Le diagnostican esclerosis múltiple. Le informan que un año ya no podría ni siquiera caminar 100 metros. En lugar de venirse abajo\, Ramón quiere participar en una de las pruebas más duras del planeta. No sólo para superarse a sí mismo\, sino porque será la última oportunidad que tenga antes de que su cuerpo falle del todo. Por ello\, se preparará todos los días\, en una lucha contrarreloj contra sigo mismo. Pero en este desafío no estará solo\, tendrá la ayuda incondicional de su esposa y la de su suegro. De esta forma\, Ramón luchará contra sus limitaciones y demostrará al mundo que uno nunca debe rendirse y que\, incluso en las peores adversidades\, hay que seguir hacia delante. \nNo recomendada para menores de 12 años \nSi no puede acudir al evento\, por favor llame o envíe un WhatsApp al 608497654. Para que otro espectador pueda disfrutar del evento. Muchas gracias \nCon la financiación del
URL:https://abaco.abaran.es/evento/100-metros/
LOCATION:Teatro Cervantes\, Calle Doctor Molina 79\, Abarán\, Murcia\, 30550\, España
CATEGORIES:Cine
ATTACH;FMTTYPE=image/jpeg:https://abaco.abaran.es/wp-content/uploads/2020/11/100.jpg
END:VEVENT
BEGIN:VEVENT
DTSTART;TZID=Europe/Madrid:20201129T200000
DTEND;TZID=Europe/Madrid:20201129T220000
DTSTAMP:20260426T054952
CREATED:20201124T163408Z
LAST-MODIFIED:20201124T174357Z
UID:10000107-1606680000-1606687200@abaco.abaran.es
SUMMARY:Quiero ser como Beckham
DESCRIPTION:Sinopsis \nJess tiene dieciocho años y sus padres quie-ren que sea una encantadora y convencional chica india. Pero ella solamente quiere jugar al fútbol como su héroe\, David Beckham\, la estrella del Manchester United. Para Jess\, eso significa darle patadas a un balón en el parque con sus amigos\, hasta que la descubre Jules\, una joven que la invita a unirse al equipo de fútbol femenino local. Las chicas tienen la misma edad y comparten los mismos sueños. Al tiempo que se va consolidando su amistad\, el equipo empieza a viajar para jugar en otras ciudades. Pero los padres de Jess no entienden por qué no se calma\, estudia derecho y aprende a cocinar. No entienden por qué no puede parecerse a su hermana mayor\, Pinky\, que está prometida con el hombre adecuado. Jules sueña con jugar en la liga femenina de fútbol de Estados Unidos\, pero lo que desea su madre es que sea un poco más femenina. ¿Cómo va a encontrar novio si ni siquiera se pone un vestido? Pero Jules y Jess se sienten atraídas por el mismo hombre\, el único en el que no pueden fijarse\, Joe\, su entrenador. \nTodos los Públicos \nSi no puede acudir al evento\, por favor llame o envíe un WhatsApp al 608497654. Para que otro espectador pueda disfrutar del evento. Muchas gracias \nCon la financiación del
URL:https://abaco.abaran.es/evento/quiero-ser-como-beckham/
LOCATION:Teatro Cervantes\, Calle Doctor Molina 79\, Abarán\, Murcia\, 30550\, España
CATEGORIES:Cine
ATTACH;FMTTYPE=image/jpeg:https://abaco.abaran.es/wp-content/uploads/2020/11/001.jpg
END:VEVENT
BEGIN:VEVENT
DTSTART;TZID=Europe/Madrid:20201128T193000
DTEND;TZID=Europe/Madrid:20201128T223000
DTSTAMP:20260426T054952
CREATED:20201124T162940Z
LAST-MODIFIED:20201124T174406Z
UID:10000106-1606591800-1606602600@abaco.abaran.es
SUMMARY:La vida de Adèle
DESCRIPTION:Sinopsis\nA sus 15 años\, Adèle no tiene dudas de que una chica debe salir con chicos. Su vida cambiará para siempre cuando conozca a Emma\, una joven de pelo azul\, que le descubrirá lo que es el deseo\, y el camino hacia la madurez. Así\, Adèle crecerá\, se buscará a sí misma\, se perderá y se reencontrará… y todo ello bajo la atenta mirada de los que le rodean. \nNo recomendada para menores de 16 años \nSi no puede acudir al evento\, por favor llame o envíe un WhatsApp al 608497654. Para que otro espectador pueda disfrutar del evento. Muchas gracias \nCon la financiación del
URL:https://abaco.abaran.es/evento/la-vida-de-adele/
LOCATION:Teatro Cervantes\, Calle Doctor Molina 79\, Abarán\, Murcia\, 30550\, España
CATEGORIES:Cine
ATTACH;FMTTYPE=image/jpeg:https://abaco.abaran.es/wp-content/uploads/2020/11/LavidadeAdele.jpg
END:VEVENT
BEGIN:VEVENT
DTSTART;TZID=Europe/Madrid:20201127T200000
DTEND;TZID=Europe/Madrid:20201127T213000
DTSTAMP:20260426T054952
CREATED:20201124T130550Z
LAST-MODIFIED:20201124T174412Z
UID:10000105-1606507200-1606512600@abaco.abaran.es
SUMMARY:Mustang
DESCRIPTION:Sinopsis\n\nUna de las grandes triunfadoras en la 60 Semana Internacional de Cine de Valladolid (Seminci)\, con seis premios\, incluida la Espiga de Plata. Narra la historia de un grupo de cinco hermanas huérfanas que tienen entre 12 y 16 años. La vida de las adolescentes es un oasis donde todo son risas y alegría\, viven en un pequeño pueblo cercano al Mar Negro\, en el norte de Turquía. Los chicos del colegio al que van las miran de forma curiosa. Pero esa felicidad no va a durar mucho. Ser mujer en un país como Turquía no es fácil y las habladurías se ciernen sobre las cinco pequeñas. Al ser tachadas de obscenas\, su única familia (su abuela y su tío) decidirán ponerle una solución rápida al problema. Ambos no tardarán en resolver estos rumores preparándolas y obligándolas a comportarse como buenas esposas cuyo destino no es otro que contraer matrimonio. \nNo recomendada para menores de 7 años \nNominada Oscar Mejor Película de habla no inglesa \nPremios Goya Mejor Película Europea \nSi no puede acudir al evento\, por favor llame o envíe un WhatsApp al 608497654. Para que otro espectador pueda disfrutar del evento. Muchas gracias \nCon la financiación del
URL:https://abaco.abaran.es/evento/mustang/
LOCATION:Teatro Cervantes\, Calle Doctor Molina 79\, Abarán\, Murcia\, 30550\, España
CATEGORIES:Cine
ATTACH;FMTTYPE=image/jpeg:https://abaco.abaran.es/wp-content/uploads/2020/11/Mustang.jpg
END:VEVENT
BEGIN:VEVENT
DTSTART;TZID=Europe/Madrid:20201125T200000
DTEND;TZID=Europe/Madrid:20201125T220000
DTSTAMP:20260426T054952
CREATED:20201124T102119Z
LAST-MODIFIED:20201124T174421Z
UID:10000104-1606334400-1606341600@abaco.abaran.es
SUMMARY:Tres metros sobre el cielo
DESCRIPTION:Sinopsis\n\nEsta es la crónica de una relación improbable\, casi imposible\, pero inevitable\, que terminará arrastrando a una pareja a un frenético viaje donde juntos descubrirán el primer gran amor. Ambos viven en la ciudad de Barcelona y son jóvenes. Ella es Babi (María Valverde)\, una chica de clase media-alta que está educada en la bondad\, en la inocencia y en las normas. Él es Hugo (Mario Casas)\, un chico rebelde\, duro\, impulsivo\, inconsciente\, aficionado al riesgo y al peligro enzarzado en un sinfín de peleas y carreras ilegales de motos\, al límite del sentido común. Aunque los dos pertenecen a mundos completamente distintos\, la casualidad les une y tras un altercado no pueden evitar quedarse prendados el uno del otro.\n\n\nNo recomendado menores de 13 años \n\n\nSi no puede acudir al evento\, por favor llame o envíe un WhatsApp al 608497654. Para que otro espectador pueda disfrutar del evento. Muchas gracias \nCon la financiación del
URL:https://abaco.abaran.es/evento/tres-metros-sobre-el-cielo/
LOCATION:Teatro Cervantes\, Calle Doctor Molina 79\, Abarán\, Murcia\, 30550\, España
CATEGORIES:Cine
ATTACH;FMTTYPE=image/png:https://abaco.abaran.es/wp-content/uploads/2020/11/3-metros-sobre-el-cielo.png
END:VEVENT
BEGIN:VEVENT
DTSTART;TZID=Europe/Madrid:20201121T193000
DTEND;TZID=Europe/Madrid:20201121T221100
DTSTAMP:20260426T054952
CREATED:20201116T164135Z
LAST-MODIFIED:20201223T085335Z
UID:10000103-1605987000-1605996660@abaco.abaran.es
SUMMARY:Boyhood (Momentos de una vida)
DESCRIPTION:Sinopsis\nLa película sigue a Mason desde los seis años durante algo más de una década poblada de cambios\, mudanzas y controversias\, relaciones que se tambalean\, bodas\, diferentes colegios\, primeros amores\, primeras desilusiones\, momentos maravillosos\, momentos de miedo y una constante mezcla de desgarro y de sorpresa. Los resultados son totalmente impredecibles\, ya que cada momento lleva a otro\, uniéndose en la profunda experiencia personal que nos forma mientras crecemos y nos acoplamos a la siempre cambiante naturaleza de nuestra vida. La historia empieza cuando Mason\, un soñador de seis años\, se enfrenta a la primera gran convulsión de su vida: su entregada y luchadora madre Olivia ha decidido que se muda con Mason y su hermana Samantha a Houston\, justo cuando el padre de sus hijos\, Mason Sr acaba de regresar a Alaska. Así empieza una vida de cambios. Entre una marea de padres y padrastros\, novias\, profesores\, jefes\, peligros\, deseos y pasión creativa\, Mason consigue encontrar su propio camino. \nNo recomendado menores de 12 años \nSi no puede acudir al evento\, por favor llame o envíe un WhatsApp al 608497654. Para que otro espectador pueda disfrutar del evento. Muchas gracias \nCon la financiación del
URL:https://abaco.abaran.es/evento/boyhood-momentos-de-una-vida/
LOCATION:Teatro Cervantes\, Calle Doctor Molina 79\, Abarán\, Murcia\, 30550\, España
CATEGORIES:Cine
ATTACH;FMTTYPE=image/jpeg:https://abaco.abaran.es/wp-content/uploads/2020/11/002.jpg
END:VEVENT
BEGIN:VEVENT
DTSTART;TZID=Europe/Madrid:20201120T200000
DTEND;TZID=Europe/Madrid:20201120T221000
DTSTAMP:20260426T054952
CREATED:20201116T162954Z
LAST-MODIFIED:20201223T085342Z
UID:10000102-1605902400-1605910200@abaco.abaran.es
SUMMARY:La princesa Mononoke
DESCRIPTION:Sinopsis\nTras sufrir el ataque de un monstruoso jabalí enloquecido\, el joven Ashitaka emprende el camino en busca del dios Ciervo\, pues sólo él puede curarlo\, puesto que la herida\, que es en el brazo\, se extiende poco a poco hasta incluso llegar a matar a quien la sufre. Pero la maldición no es sólo eso\, además\, cuando Ashitaka se deja llevar por la furia\, la herida le da una fuerza descomunal… Pero se extiende amayor velocidad. Mientras tanto\, los humanos están acabando con los bosques\, por lo que los dioses convertidos en temibles bestias hacen todo lo posible por protegerlos encabezados por Mononoke\, una princesa guerrera. Ashikata deberá decidir si ayudar a los hombres o las deidades intentando detener la maldición de su herida. \nNo recomendada para menores de 7 años \n  \nSi no puede acudir al evento\, por favor llame o envíe un WhatsApp al 608497654. Para que otro espectador pueda disfrutar del evento. Muchas gracias \nCon la financiación del
URL:https://abaco.abaran.es/evento/la-princesa-mononoke/
LOCATION:Teatro Cervantes\, Calle Doctor Molina 79\, Abarán\, Murcia\, 30550\, España
CATEGORIES:Cine
ATTACH;FMTTYPE=image/jpeg:https://abaco.abaran.es/wp-content/uploads/2020/11/004.jpg
END:VEVENT
BEGIN:VEVENT
DTSTART;TZID=Europe/Madrid:20201114T200000
DTEND;TZID=Europe/Madrid:20201114T223000
DTSTAMP:20260426T054952
CREATED:20201111T163208Z
LAST-MODIFIED:20201111T234913Z
UID:10000101-1605384000-1605393000@abaco.abaran.es
SUMMARY:Figuras ocultas
DESCRIPTION:Sinopsis \nMientras los Estados Unidos competían con Rusia para llevar un hombre al espacio\, la NASA descubrió el talento sin explotar de un grupo de matemáticas afroamericanas que fueron el cerebro de una de las operaciones más importantes de la historia del país norteamericano. Basada en la increíble vida de estas tres mujeres\, conocidas como «calculadoras humanas»\, seguimos lo rápido que levantaron filas en la NASA junto a muchas de las mentes más brillantes de la historia\, encargadas específicamente en el cálculo de la trascendental puesta en órbita del astronauta John Glenn y de garantizar su regreso. Dorothy Vaughn\, Mary Jackson y Katherine Johnson atravesaron todo las barreras de género y raza a nivel profesional. Su brillantez y el deseo de soñar a lo grande las convirtieron en verdaderas heroínas norteamericanas. \nSi no puede acudir al evento\, por favor llame o envíe un WhatsApp al 608497654. Para que otro espectador pueda disfrutar del evento. Muchas gracias \nCon la financiación del
URL:https://abaco.abaran.es/evento/figuras-ocultas/
LOCATION:Teatro Cervantes\, Calle Doctor Molina 79\, Abarán\, Murcia\, 30550\, España
CATEGORIES:Cine
ATTACH;FMTTYPE=image/jpeg:https://abaco.abaran.es/wp-content/uploads/2020/11/figuras-ocultas.jpg
END:VEVENT
BEGIN:VEVENT
DTSTART;TZID=Europe/Madrid:20201113T200000
DTEND;TZID=Europe/Madrid:20201113T220000
DTSTAMP:20260426T054952
CREATED:20201111T115708Z
LAST-MODIFIED:20201111T163301Z
UID:10000100-1605297600-1605304800@abaco.abaran.es
SUMMARY:La Biblioteca de los libros rechazados
DESCRIPTION:Sinopsis \nUna joven editora descubre una novela que considera como obra magistral en una biblioteca cuya particularidad es que reúnen todos aquellos manuscritos que han sido rechazados en editoriales. El libro viene firmado por Henri Pick\, un pizzero bretón fallecido dos años antes. La editora decide hablar con la viuda quién le asegura que Pick jamás había leído un sólo libro y mucho menos escribir nada más allá de la lista de la compra. Con tal misterio en ciernes\, la novela se convierte en un auténtico best-seller pero sin estar convencido del todo con el caso\, un célebre crítico decide intentar desentrañar el secreto\, ayudado por la hija del enigmático Pick. Basada en la novela del mismo nombre escrita por David Foenkinos. \n*Si no puede acudir al evento\, por favor llama o envía un WhatsApp a este número: 608497654. Para que otro espectador pueda disfrutar del evento. Muchas gracias \nCon la financiación del
URL:https://abaco.abaran.es/evento/la-biblioteca-de-los-libros-rechazados/
LOCATION:Teatro Cervantes\, Calle Doctor Molina 79\, Abarán\, Murcia\, 30550\, España
CATEGORIES:Cine
ATTACH;FMTTYPE=image/jpeg:https://abaco.abaran.es/wp-content/uploads/2020/11/loa-biblioteca-de-los-libros-rechazados.jpg
END:VEVENT
END:VCALENDAR